BEGIN:VCALENDAR
VERSION:2.0
PRODID:-//South African Society for Enology &amp; Viticulture - ECPv6.15.20//NONSGML v1.0//EN
CALSCALE:GREGORIAN
METHOD:PUBLISH
X-WR-CALNAME:South African Society for Enology &amp; Viticulture
X-ORIGINAL-URL:https://www.sasev.org
X-WR-CALDESC:Events for South African Society for Enology &amp; Viticulture
REFRESH-INTERVAL;VALUE=DURATION:PT1H
X-Robots-Tag:noindex
X-PUBLISHED-TTL:PT1H
BEGIN:VTIMEZONE
TZID:Africa/Johannesburg
BEGIN:STANDARD
TZOFFSETFROM:+0200
TZOFFSETTO:+0200
TZNAME:SAST
DTSTART:20130101T000000
END:STANDARD
END:VTIMEZONE
BEGIN:VEVENT
DTSTART;VALUE=DATE:20231126
DTEND;VALUE=DATE:20231202
DTSTAMP:20260424T202632
CREATED:20230526T073721Z
LAST-MODIFIED:20230526T074100Z
UID:9396-1700956800-1701475199@www.sasev.org
SUMMARY:10th International Table Grape Symposium
DESCRIPTION:Where science meets industry. Join us for a 5-day programme which will showcase the latest developments in table grape research\, provide commercial insights during panel discussions\, and expose delegates to industry through field tours. Proudly hosted by SASEV in partnership with SATI. \nVisit Website \nRegister now!
URL:https://www.sasev.org/event/10th-international-table-grape-symposium/
CATEGORIES:Upcoming Conference
END:VEVENT
BEGIN:VEVENT
DTSTART;VALUE=DATE:20230913
DTEND;VALUE=DATE:20230915
DTSTAMP:20260424T202632
CREATED:20230526T072425Z
LAST-MODIFIED:20230612T104610Z
UID:9394-1694563200-1694735999@www.sasev.org
SUMMARY:SASEV Welcomes you to the 43rd SASEV Conference
DESCRIPTION:As scientific and industry leaders\, we are proud to present a two-day programme at Klein Joostenberg\, Stellenbosch in a uniquely South African style. Join us for two days of thought leadership\, knowledge sharing and networking around our theme ‘Homegrown Knowledge\, Exploring the Impact of Local Research on a Global Scale.’
URL:https://www.sasev.org/event/sasev-welcomes-you-to-the-43rd-sasev-conference/
LOCATION:Klein Joostenberg\, Stellenbosch\, Western Cape\, South Africa
CATEGORIES:Upcoming Conference
ATTACH;FMTTYPE=image/jpeg:https://www.sasev.org/wp-content/uploads/2023/05/homegrown-knowledge-save.jpg
ORGANIZER;CN="SASEV":MAILTO:sasev@sasev.org
END:VEVENT
BEGIN:VEVENT
DTSTART;VALUE=DATE:20180825
DTEND;VALUE=DATE:20180826
DTSTAMP:20260424T202632
CREATED:20200915T073804Z
LAST-MODIFIED:20200915T073804Z
UID:905-1535155200-1535241599@www.sasev.org
SUMMARY:SASEV - WINETECH 41st International Conference
DESCRIPTION:[vc_row][vc_column][vc_column_text]\nSubmissions for the 41st SASEV Winetech Conference are now open.\n\nYou can view all the required information in the downloads below\, submission date is 25 June 2018. \n[/vc_column_text][/vc_column][/vc_row][vc_row][vc_column width=”1/2″]Call for Abstract [/vc_column][vc_column width=”1/2″]Workshop Request [/vc_column][/vc_row]
URL:https://www.sasev.org/event/test-previous-conferences/
CATEGORIES:Previous conferences
END:VEVENT
BEGIN:VEVENT
DTSTART;VALUE=DATE:20170829
DTEND;VALUE=DATE:20170830
DTSTAMP:20260424T202632
CREATED:20200915T074313Z
LAST-MODIFIED:20200915T074313Z
UID:908-1503964800-1504051199@www.sasev.org
SUMMARY:40th SASEV Conference Photos
DESCRIPTION:[vc_row][vc_column][vc_column_text]\n40th SASEV Conference Photos\n[/vc_column_text][/vc_column][/vc_row][vc_row][vc_column][/vc_column][/vc_row][vc_row][vc_column width=”1/2″]Confrence Programme [/vc_column][vc_column width=”1/2″]Regestration Form [/vc_column][/vc_row]
URL:https://www.sasev.org/event/test-previous-conferences-2/
CATEGORIES:Previous conferences
END:VEVENT
BEGIN:VEVENT
DTSTART;VALUE=DATE:20160831
DTEND;VALUE=DATE:20160901
DTSTAMP:20260424T202632
CREATED:20200915T102909Z
LAST-MODIFIED:20200915T102909Z
UID:949-1472601600-1472687999@www.sasev.org
SUMMARY:SATI / SAWWV Wingerdbou Tegniese Inligtingsdae
DESCRIPTION:[vc_row][vc_column width=”1/4″][/vc_column][vc_column width=”1/2″]Maandag\, 29 Augustus 2016 – Kingdom Lodge\, Groblersdal [/vc_column][vc_column width=”1/4″][/vc_column][/vc_row][vc_row][vc_column][/vc_column][/vc_row][vc_row][vc_column width=”1/4″][/vc_column][vc_column width=”1/2″]Woensdag\, 31 Augustus 2016 – Lake Grappa\, Kakamas [/vc_column][vc_column width=”1/4″][/vc_column][/vc_row][vc_row][vc_column][/vc_column][/vc_row][vc_row][vc_column width=”1/4″][/vc_column][vc_column width=”1/2″]Vrydag\, 2 September 2016 – Kronenburg\, Paarl [/vc_column][vc_column width=”1/4″][/vc_column][/vc_row]
URL:https://www.sasev.org/event/sati-sawwv-wingerdbou-tegniese-inligtingsdae/
CATEGORIES:Previous conferences
END:VEVENT
BEGIN:VEVENT
DTSTART;TZID=Africa/Johannesburg:20160823T000000
DTEND;TZID=Africa/Johannesburg:20160825T235900
DTSTAMP:20260424T202632
CREATED:20200915T073718Z
LAST-MODIFIED:20200915T073718Z
UID:901-1471910400-1472169540@www.sasev.org
SUMMARY:SASEV International Conference
DESCRIPTION:[vc_row][vc_column][/vc_column][/vc_row][vc_row][vc_column]Registration Form [/vc_column][/vc_row]
URL:https://www.sasev.org/event/test-upcoming-conferences/
CATEGORIES:Previous conferences
END:VEVENT
BEGIN:VEVENT
DTSTART;VALUE=DATE:20140101
DTEND;VALUE=DATE:20140102
DTSTAMP:20260424T202632
CREATED:20200915T101828Z
LAST-MODIFIED:20200915T101828Z
UID:940-1388534400-1388620799@www.sasev.org
SUMMARY:SASEV Conference 2014 Keynote Presentations
DESCRIPTION:[vc_row][vc_column][vc_column_text]\nKeynote – N Ollat\n[/vc_column_text][vc_empty_space height=”15px”][vc_separator border_width=”2″ el_width=”20″][vc_empty_space height=”15px”][vc_row_inner][vc_column_inner width=”1/4″][/vc_column_inner][vc_column_inner width=”1/4″]Slides [/vc_column_inner][vc_column_inner width=”1/4″]Presentation Video [/vc_column_inner][vc_column_inner width=”1/4″][/vc_column_inner][/vc_row_inner][/vc_column][/vc_row][vc_row][vc_column][vc_column_text]\nKeynote – S Smith\n[/vc_column_text][vc_empty_space height=”15px”][vc_separator border_width=”2″ el_width=”20″][vc_empty_space height=”15px”][vc_row_inner][vc_column_inner width=”1/4″][/vc_column_inner][vc_column_inner width=”1/4″]Slides [/vc_column_inner][vc_column_inner width=”1/4″]Presentation Video [/vc_column_inner][vc_column_inner width=”1/4″][/vc_column_inner][/vc_row_inner][/vc_column][/vc_row][vc_row][vc_column][vc_column_text]\nKeynote – M Hoffman\n[/vc_column_text][vc_empty_space height=”15px”][vc_separator border_width=”2″ el_width=”20″][vc_empty_space height=”15px”][vc_row_inner][vc_column_inner width=”1/4″][/vc_column_inner][vc_column_inner width=”1/4″]Slides [/vc_column_inner][vc_column_inner width=”1/4″]Presentation Video [/vc_column_inner][vc_column_inner width=”1/4″][/vc_column_inner][/vc_row_inner][/vc_column][/vc_row]
URL:https://www.sasev.org/event/sasev-conference-2014-keynote-presentations/
CATEGORIES:Previous conferences
END:VEVENT
END:VCALENDAR