BEGIN:VCALENDAR
VERSION:2.0
PRODID:-//South African Society for Enology &amp; Viticulture - ECPv6.15.20//NONSGML v1.0//EN
CALSCALE:GREGORIAN
METHOD:PUBLISH
X-ORIGINAL-URL:https://www.sasev.org
X-WR-CALDESC:Events for South African Society for Enology &amp; Viticulture
REFRESH-INTERVAL;VALUE=DURATION:PT1H
X-Robots-Tag:noindex
X-PUBLISHED-TTL:PT1H
BEGIN:VTIMEZONE
TZID:Africa/Johannesburg
BEGIN:STANDARD
TZOFFSETFROM:+0200
TZOFFSETTO:+0200
TZNAME:SAST
DTSTART:20220101T000000
END:STANDARD
END:VTIMEZONE
BEGIN:VEVENT
DTSTART;VALUE=DATE:20231203
DTEND;VALUE=DATE:20231207
DTSTAMP:20260424T162724
CREATED:20230526T074151Z
LAST-MODIFIED:20230526T074821Z
UID:9400-1701561600-1701907199@www.sasev.org
SUMMARY:10th International Table Grape Symposium: Post-Symposium Tour
DESCRIPTION:Pre-book for a 4-day excursion to the to the Orange River Production Area in the Northern Cape Province of South Africa. The Orange River Production Area is one of South Africa’s earliest regions\, where table grapes are grown under semi-desert conditions. \nVisit Website \nDon’t miss out!
URL:https://www.sasev.org/event/9400/
CATEGORIES:Upcoming Conference
END:VEVENT
END:VCALENDAR